BEGIN:VCALENDAR
VERSION:2.0
PRODID:-//Erfurter Männerchor 1890 e.V.//Hugo//DE
CALSCALE:GREGORIAN
METHOD:PUBLISH
BEGIN:VEVENT
UID:bd0308fdf552495b751bbbddeeb9948c@emc1890.de
DTSTAMP:20260422T075419Z
DTSTART:20160918T140000Z
DTEND:20160918T160000Z
SUMMARY:Chorkonzert Erfurter Männerchöre
LOCATION:Innenhof Erfurter Rathaus
DESCRIPTION:Chorkonzert der Erfurter Männerchöre im Innenhof des Erfurter Rathauses.
URL:https://emc1890.de/konzerte/archiv/2016/konzert-maennerchoere/
STATUS:CONFIRMED
END:VEVENT
END:VCALENDAR
