BEGIN:VCALENDAR
VERSION:2.0
PRODID:-//Erfurter Männerchor 1890 e.V.//Hugo//DE
CALSCALE:GREGORIAN
METHOD:PUBLISH
BEGIN:VEVENT
UID:74e33d969851c96bdd954effa7267698@emc1890.de
DTSTAMP:20260422T075419Z
DTSTART:20160318T170000Z
DTEND:20160318T190000Z
SUMMARY:Hausmusik Thüringer Bachwochen
LOCATION:Gildehaus Meistersaal
DESCRIPTION:Hausmusik im Rahmen der Thüringer Bachwochen im Gildehaus Meistersaal. Eintritt frei.
URL:https://emc1890.de/konzerte/archiv/2016/hausmusik/
STATUS:CONFIRMED
END:VEVENT
END:VCALENDAR
