BEGIN:VCALENDAR
VERSION:2.0
PRODID:-//Erfurter Männerchor 1890 e.V.//Hugo//DE
CALSCALE:GREGORIAN
METHOD:PUBLISH
BEGIN:VEVENT
UID:fcf3c94a507eb33e718a7e843823851f@emc1890.de
DTSTAMP:20260422T075419Z
DTSTART:20160422T173000Z
DTEND:20160422T193000Z
SUMMARY:Frühlingskonzert Erfurter Chöre
LOCATION:Rathausfestsaal Erfurt
DESCRIPTION:Frühlingskonzert Erfurter Chöre im Rathausfestsaal Erfurt.
URL:https://emc1890.de/konzerte/archiv/2016/fruehlingskonzert/
STATUS:CONFIRMED
END:VEVENT
END:VCALENDAR
