BEGIN:VCALENDAR
VERSION:2.0
PRODID:-//Erfurter Männerchor 1890 e.V.//Hugo//DE
CALSCALE:GREGORIAN
METHOD:PUBLISH
BEGIN:VEVENT
UID:a7394b54c3b983a0f1653fbd2306f4f4@emc1890.de
DTSTAMP:20260422T075419Z
DTSTART:20160521T100000Z
DTEND:20160521T200000Z
SUMMARY:Chorkonzert in Iba
LOCATION:Iba (Stadt Bebra)
DESCRIPTION:Chorkonzert in Iba bei Bebra – Tagesfahrt des Erfurter Männerchors 1890 e.V.
URL:https://emc1890.de/konzerte/archiv/2016/chorkonzert-iba/
STATUS:CONFIRMED
END:VEVENT
END:VCALENDAR
