BEGIN:VCALENDAR
VERSION:2.0
PRODID:-//Erfurter Männerchor 1890 e.V.//Hugo//DE
CALSCALE:GREGORIAN
METHOD:PUBLISH
BEGIN:VEVENT
UID:055453da20f429075ff7a8730f5d017a@emc1890.de
DTSTAMP:20260422T075419Z
DTSTART:20161203T180000Z
DTEND:20161203T200000Z
SUMMARY:2. Adventskonzert in der Thomaskirche
LOCATION:Thomaskirche Erfurt
DESCRIPTION: Adventskonzert in der Thomaskirche Erfurt. 
URL:https://emc1890.de/konzerte/archiv/2016/adventskonzert-2/
STATUS:CONFIRMED
END:VEVENT
END:VCALENDAR
