BEGIN:VCALENDAR
VERSION:2.0
PRODID:-//Erfurter Männerchor 1890 e.V.//Hugo//DE
CALSCALE:GREGORIAN
METHOD:PUBLISH
BEGIN:VEVENT
UID:d0f717c52824fd685bfa34b81c164fcb@emc1890.de
DTSTAMP:20260422T075419Z
DTSTART:20161202T180000Z
DTEND:20161202T200000Z
SUMMARY:1. Adventskonzert in der Thomaskirche
LOCATION:Thomaskirche Erfurt
DESCRIPTION: Adventskonzert in der Thomaskirche Erfurt. 
URL:https://emc1890.de/konzerte/archiv/2016/adventskonzert-1/
STATUS:CONFIRMED
END:VEVENT
END:VCALENDAR
