BEGIN:VCALENDAR
VERSION:2.0
PRODID:-//Erfurter Männerchor 1890 e.V.//Hugo//DE
CALSCALE:GREGORIAN
METHOD:PUBLISH
BEGIN:VEVENT
UID:f2b4f4766b368d59d2a91682107f6581@emc1890.de
DTSTAMP:20260422T075419Z
DTSTART:20161020T160000Z
DTEND:20161020T173000Z
SUMMARY:Abendsingen
LOCATION:Kaufmannskirche Am Anger
DESCRIPTION:Abendsingen in der Kaufmannskirche Am Anger.
URL:https://emc1890.de/konzerte/archiv/2016/abendsingen-oktober/
STATUS:CONFIRMED
END:VEVENT
END:VCALENDAR
