BEGIN:VCALENDAR
VERSION:2.0
PRODID:-//Erfurter Männerchor 1890 e.V.//Hugo//DE
CALSCALE:GREGORIAN
METHOD:PUBLISH
BEGIN:VEVENT
UID:033845916cb4ddc781e1b9985a626772@emc1890.de
DTSTAMP:20260422T075419Z
DTSTART:20160609T160000Z
DTEND:20160609T173000Z
SUMMARY:Abendsingen
LOCATION:Kaufmannskirche Am Anger
DESCRIPTION:Abendsingen in der Kaufmannskirche Am Anger.
URL:https://emc1890.de/konzerte/archiv/2016/abendsingen-juni/
STATUS:CONFIRMED
END:VEVENT
END:VCALENDAR
