BEGIN:VCALENDAR
VERSION:2.0
PRODID:-//Erfurter Männerchor 1890 e.V.//Hugo//DE
CALSCALE:GREGORIAN
METHOD:PUBLISH
BEGIN:VEVENT
UID:6301bbe4c494c96f61e001fc43217a9c@emc1890.de
DTSTAMP:20260422T075419Z
DTSTART:20151003T150000Z
DTEND:20151003T173000Z
SUMMARY:Jubiläumskonzert &#34;125 Jahre EMC1890&#34;
LOCATION:Carl-Zeiss-Saal CongressCenter Messe Erfurt
DESCRIPTION:Jubiläumskonzert zum 125-jährigen Bestehen des Erfurter Männerchors 1890 e.V. im Carl-Zeiss-Saal des CongressCenters der Messe Erfurt. Leitung: Christian Wolf.
URL:https://emc1890.de/konzerte/archiv/2015/jubilaumskonzert/
STATUS:CONFIRMED
END:VEVENT
END:VCALENDAR
