BEGIN:VCALENDAR
VERSION:2.0
PRODID:-//Erfurter Männerchor 1890 e.V.//Hugo//DE
CALSCALE:GREGORIAN
METHOD:PUBLISH
BEGIN:VEVENT
UID:c2a9b594236380dfcd270d344f8fd514@emc1890.de
DTSTAMP:20260422T075419Z
DTSTART:20151212T160000Z
DTEND:20151212T180000Z
SUMMARY:Adventskonzert Elxleben
LOCATION:Kirche St. Michaelis Elxleben
DESCRIPTION:Adventskonzert in der Kirche St. Michaelis Elxleben. Einlass ab 16:30 Uhr. Eintritt frei, Spenden zugunsten der Orgelrestaurierung.
URL:https://emc1890.de/konzerte/archiv/2015/adventskonzert-elxleben/
STATUS:CONFIRMED
END:VEVENT
END:VCALENDAR
