BEGIN:VCALENDAR
VERSION:2.0
PRODID:-//Erfurter Männerchor 1890 e.V.//Hugo//DE
CALSCALE:GREGORIAN
METHOD:PUBLISH
BEGIN:VEVENT
UID:de971363a5db07f0658e9a5b283deb2b@emc1890.de
DTSTAMP:20260422T075419Z
DTSTART:20151205T180000Z
DTEND:20151205T200000Z
SUMMARY:2. Adventskonzert &#34;Alle Himmel singen&#34;
LOCATION:Thomaskirche Erfurt
DESCRIPTION: Adventskonzert &amp;ldquo;Alle Himmel singen&amp;rdquo; in der Thomaskirche Erfurt. 
URL:https://emc1890.de/konzerte/archiv/2015/adventskonzert-2/
STATUS:CONFIRMED
END:VEVENT
END:VCALENDAR
