BEGIN:VCALENDAR
VERSION:2.0
PRODID:-//Erfurter Männerchor 1890 e.V.//Hugo//DE
CALSCALE:GREGORIAN
METHOD:PUBLISH
BEGIN:VEVENT
UID:410d343be73b77f890c8821577227a34@emc1890.de
DTSTAMP:20260422T075419Z
DTSTART:20151204T180000Z
DTEND:20151204T200000Z
SUMMARY:1. Adventskonzert &#34;Alle Himmel singen&#34;
LOCATION:Thomaskirche Erfurt
DESCRIPTION: Adventskonzert &amp;ldquo;Alle Himmel singen&amp;rdquo; in der Thomaskirche Erfurt – ausverkauft. Einlass ab 18:15 Uhr. 
URL:https://emc1890.de/konzerte/archiv/2015/adventskonzert-1/
STATUS:CONFIRMED
END:VEVENT
END:VCALENDAR
