BEGIN:VCALENDAR
VERSION:2.0
PRODID:-//Erfurter Männerchor 1890 e.V.//Hugo//DE
CALSCALE:GREGORIAN
METHOD:PUBLISH
BEGIN:VEVENT
UID:aedf7c161d6e5b903b296d5c6adfb851@emc1890.de
DTSTAMP:20260422T075419Z
DTSTART:20260830T140000Z
DTEND:20260830T160000Z
SUMMARY:Sommerkonzert
LOCATION:ZENTRALHEIZE Erfurt
DESCRIPTION:Sommerkonzert in der ZENTRALHEIZE Erfurt
URL:https://emc1890.de/konzerte/2026/sommerkonzert/
STATUS:CONFIRMED
END:VEVENT
END:VCALENDAR
