BEGIN:VCALENDAR
VERSION:2.0
PRODID:-//Erfurter Männerchor 1890 e.V.//Hugo//DE
CALSCALE:GREGORIAN
METHOD:PUBLISH
BEGIN:VEVENT
UID:4e3685886e15694edb46e9e4cb77cdae@emc1890.de
DTSTAMP:20260422T075419Z
DTSTART:20260524T080000Z
DTEND:20260524T110000Z
SUMMARY:Traditionelles Pfingstsingen des Erfurter Männerchores
LOCATION:Sängerwiese im Steigerwald
DESCRIPTION:Traditionelles Pfingstsingen auf der Sängerwiese im Erfurter Steigerwald
URL:https://emc1890.de/konzerte/2026/pfingstsingen/
STATUS:CONFIRMED
END:VEVENT
END:VCALENDAR
