BEGIN:VCALENDAR
VERSION:2.0
PRODID:-//Erfurter Männerchor 1890 e.V.//Hugo//DE
CALSCALE:GREGORIAN
METHOD:PUBLISH
BEGIN:VEVENT
UID:06971e17eceba5d8d26f40648e46773d@emc1890.de
DTSTAMP:20260422T075419Z
DTSTART:20260221T130000Z
DTEND:20260221T150000Z
SUMMARY:Meisterfreisprechung der Handwerkskammer
LOCATION:Messehalle 1
DESCRIPTION:Handwerkskammer-Zeremonie mit Chorauftritt
URL:https://emc1890.de/konzerte/2026/meisterfreisprechung/
STATUS:CONFIRMED
END:VEVENT
END:VCALENDAR
