BEGIN:VCALENDAR
VERSION:2.0
PRODID:-//Erfurter Männerchor 1890 e.V.//Hugo//DE
CALSCALE:GREGORIAN
METHOD:PUBLISH
BEGIN:VEVENT
UID:ea43cb1db5a1658af6ca31de87815d6a@emc1890.de
DTSTAMP:20260422T075419Z
DTSTART:20260314T140000Z
DTEND:20260314T170000Z
SUMMARY:78. Jahreshauptversammlung
LOCATION:Gasthaus „Pier37&#34;
DESCRIPTION: Jahreshauptversammlung des EMC1890 
URL:https://emc1890.de/konzerte/2026/jahreshauptversammlung/
STATUS:CONFIRMED
END:VEVENT
END:VCALENDAR
