BEGIN:VCALENDAR
VERSION:2.0
PRODID:-//Erfurter Männerchor 1890 e.V.//Hugo//DE
CALSCALE:GREGORIAN
METHOD:PUBLISH
BEGIN:VEVENT
UID:49cd4aa88368ba679ec3b7073058348f@emc1890.de
DTSTAMP:20260422T075419Z
DTSTART:20260327T170000Z
DTEND:20260327T200000Z
SUMMARY:Lange Nacht der Hausmusik
LOCATION:Meistersaal des Gildehauses am Fischmarkt
DESCRIPTION:Lange Nacht der Hausmusik im Rahmen der Thüringer Bachwochen
URL:https://emc1890.de/konzerte/2026/hausmusik/
STATUS:CONFIRMED
END:VEVENT
END:VCALENDAR
