BEGIN:VCALENDAR
VERSION:2.0
PRODID:-//Erfurter Männerchor 1890 e.V.//Hugo//DE
CALSCALE:GREGORIAN
METHOD:PUBLISH
BEGIN:VEVENT
UID:a08a045aa0980faac9929dcd660f637b@emc1890.de
DTSTAMP:20260422T075419Z
DTSTART:20260926T130000Z
DTEND:20260926T160000Z
SUMMARY:280jähriges Chorjubiläum des MGV Elleben 1746
LOCATION:Elleben
DESCRIPTION:280jähriges Chorjubiläum des MGV Elleben 1746
URL:https://emc1890.de/konzerte/2026/chorjubilaeum-elleben/
STATUS:CONFIRMED
END:VEVENT
END:VCALENDAR
