BEGIN:VCALENDAR
VERSION:2.0
PRODID:-//Erfurter Männerchor 1890 e.V.//Hugo//DE
CALSCALE:GREGORIAN
METHOD:PUBLISH
BEGIN:VEVENT
UID:8495788dc958361c0229389f40f9a199@emc1890.de
DTSTAMP:20260422T075419Z
DTSTART:20261212T160000Z
DTEND:20261212T180000Z
SUMMARY:Handwerker-Adventsmarkt im Innenhof vom Gildehaus / Kleines Adventskonzert
LOCATION:Innenhof Gildehaus
DESCRIPTION:Handwerker-Adventsmarkt mit Adventskonzert im Gildehaus
URL:https://emc1890.de/konzerte/2026/adventsmarkt/
STATUS:CONFIRMED
END:VEVENT
END:VCALENDAR
