BEGIN:VCALENDAR
VERSION:2.0
PRODID:-//Erfurter Männerchor 1890 e.V.//Hugo//DE
CALSCALE:GREGORIAN
METHOD:PUBLISH
BEGIN:VEVENT
UID:1993c106dbb6bc19fd780a51ebbcc2ff@emc1890.de
DTSTAMP:20260422T075419Z
DTSTART:20261205T160000Z
DTEND:20261205T180000Z
SUMMARY:Adventskonzert
LOCATION:Thomaskirche Erfurt
DESCRIPTION:Traditionelles Adventskonzert des EMC1890 in der Thomaskirche
URL:https://emc1890.de/konzerte/2026/adventskonzert/
STATUS:CONFIRMED
END:VEVENT
END:VCALENDAR
