BEGIN:VCALENDAR
VERSION:2.0
PRODID:-//Erfurter Männerchor 1890 e.V.//Hugo//DE
CALSCALE:GREGORIAN
METHOD:PUBLISH
BEGIN:VEVENT
UID:67145721b04033ba3a25bbfdb087ffd6@emc1890.de
DTSTAMP:20260422T075419Z
DTSTART:20250608T080000Z
DTEND:20250608T110000Z
SUMMARY:Traditionelles Pfingstsingen des Erfurter Männerchores
LOCATION:Sängerwiese im Steigerwald
DESCRIPTION:Traditionelles Pfingstsingen auf der Sängerwiese
URL:https://emc1890.de/konzerte/2025/pfingstsingen/
STATUS:CONFIRMED
END:VEVENT
END:VCALENDAR
