BEGIN:VCALENDAR
VERSION:2.0
PRODID:-//Erfurter Männerchor 1890 e.V.//Hugo//DE
CALSCALE:GREGORIAN
METHOD:PUBLISH
BEGIN:VEVENT
UID:34749fc810179f8917a6be55400a2c89@emc1890.de
DTSTAMP:20260422T075419Z
DTSTART:20250215T130000Z
DTEND:20250215T150000Z
SUMMARY:Meisterfreisprechung der Handwerkskammer
LOCATION:Messehalle 1
DESCRIPTION:Meisterfreisprechung der Handwerkskammer Erfurt
URL:https://emc1890.de/konzerte/2025/meisterfreisprechung/
STATUS:CONFIRMED
END:VEVENT
END:VCALENDAR
