BEGIN:VCALENDAR
VERSION:2.0
PRODID:-//Erfurter Männerchor 1890 e.V.//Hugo//DE
CALSCALE:GREGORIAN
METHOD:PUBLISH
BEGIN:VEVENT
UID:3b4c15c1abd2b0f5422a909e7c650901@emc1890.de
DTSTAMP:20260422T075419Z
DTSTART:20251214T150000Z
DTEND:20251214T163000Z
SUMMARY:Kleines Adventskonzert
LOCATION:Gildehaus
DESCRIPTION:Kleines Adventskonzert im Gildehaus
URL:https://emc1890.de/konzerte/2025/kleines-adventskonzert/
STATUS:CONFIRMED
END:VEVENT
END:VCALENDAR
