BEGIN:VCALENDAR
VERSION:2.0
PRODID:-//Erfurter Männerchor 1890 e.V.//Hugo//DE
CALSCALE:GREGORIAN
METHOD:PUBLISH
BEGIN:VEVENT
UID:9f69329b68fc5671258caa1bd0b32b06@emc1890.de
DTSTAMP:20260422T075419Z
DTSTART:20250315T140000Z
DTEND:20250315T170000Z
SUMMARY:77. Jahreshauptversammlung
LOCATION:Braukeller am Fischmarkt
DESCRIPTION: Jahreshauptversammlung des EMC1890 
URL:https://emc1890.de/konzerte/2025/jahreshauptversammlung/
STATUS:CONFIRMED
END:VEVENT
END:VCALENDAR
