BEGIN:VCALENDAR
VERSION:2.0
PRODID:-//Erfurter Männerchor 1890 e.V.//Hugo//DE
CALSCALE:GREGORIAN
METHOD:PUBLISH
BEGIN:VEVENT
UID:b696bf2347a321cc7d6ab78c745d7281@emc1890.de
DTSTAMP:20260422T075419Z
DTSTART:20250811T170000Z
DTEND:20250811T190000Z
SUMMARY:Erste Probe nach der Sommerpause
LOCATION:Gildehaus am Fischmarkt, Meistersaal
DESCRIPTION:Erste Probe nach der Sommerpause (28.06.–10.08.25)
URL:https://emc1890.de/konzerte/2025/erste-probe/
STATUS:CONFIRMED
END:VEVENT
END:VCALENDAR
