BEGIN:VCALENDAR
VERSION:2.0
PRODID:-//Erfurter Männerchor 1890 e.V.//Hugo//DE
CALSCALE:GREGORIAN
METHOD:PUBLISH
BEGIN:VEVENT
UID:07b546d2e7580f68f434896ac13cafbc@emc1890.de
DTSTAMP:20260422T075419Z
DTSTART:20251213T160000Z
DTEND:20251213T180000Z
SUMMARY:Handwerker-Adventsmarkt
LOCATION:Innenhof Gildehaus
DESCRIPTION:Handwerker-Adventsmarkt im Gildehaus
URL:https://emc1890.de/konzerte/2025/adventsmarkt/
STATUS:CONFIRMED
END:VEVENT
END:VCALENDAR
