BEGIN:VCALENDAR
VERSION:2.0
PRODID:-//Erfurter Männerchor 1890 e.V.//Hugo//DE
CALSCALE:GREGORIAN
METHOD:PUBLISH
BEGIN:VEVENT
UID:beded9a6b52174f7f0d038f92dabd10c@emc1890.de
DTSTAMP:20260422T075419Z
DTSTART:20251206T160000Z
DTEND:20251206T180000Z
SUMMARY:2. Adventskonzert
LOCATION:Thomaskirche Erfurt
DESCRIPTION: Adventskonzert in der Thomaskirche Erfurt 
URL:https://emc1890.de/konzerte/2025/adventskonzert-2/
STATUS:CONFIRMED
END:VEVENT
END:VCALENDAR
