BEGIN:VCALENDAR
VERSION:2.0
PRODID:-//Erfurter Männerchor 1890 e.V.//Hugo//DE
CALSCALE:GREGORIAN
METHOD:PUBLISH
BEGIN:VEVENT
UID:1d913c1822514f0235d09094e3be5b3a@emc1890.de
DTSTAMP:20260422T075419Z
DTSTART:20251205T170000Z
DTEND:20251205T190000Z
SUMMARY:1. Adventskonzert
LOCATION:Thomaskirche Erfurt
DESCRIPTION: Adventskonzert in der Thomaskirche Erfurt 
URL:https://emc1890.de/konzerte/2025/adventskonzert-1/
STATUS:CONFIRMED
END:VEVENT
END:VCALENDAR
