BEGIN:VCALENDAR
VERSION:2.0
PRODID:-//Erfurter Männerchor 1890 e.V.//Hugo//DE
CALSCALE:GREGORIAN
METHOD:PUBLISH
BEGIN:VEVENT
UID:aec393a75844cc1e928c5ac68bdb9f38@emc1890.de
DTSTAMP:20260422T075419Z
DTSTART:20240609T150000Z
DTEND:20240609T170000Z
SUMMARY:Sommerkonzert
LOCATION:Gustav-Adolf-Kirche Erfurt
DESCRIPTION:Sommerkonzert – mit dem Erfurter Männerchor in den Sommer
URL:https://emc1890.de/konzerte/2024/sommerkonzert/
STATUS:CONFIRMED
END:VEVENT
END:VCALENDAR
