BEGIN:VCALENDAR
VERSION:2.0
PRODID:-//Erfurter Männerchor 1890 e.V.//Hugo//DE
CALSCALE:GREGORIAN
METHOD:PUBLISH
BEGIN:VEVENT
UID:f60641459c809e9f0b2688aad44a99a8@emc1890.de
DTSTAMP:20260422T075419Z
DTSTART:20240217T130000Z
DTEND:20240217T150000Z
SUMMARY:Meisterfreisprechung der Handwerkskammer
LOCATION:Messehalle 1
DESCRIPTION:Meisterfreisprechung der Handwerkskammer
URL:https://emc1890.de/konzerte/2024/meisterfreisprechung/
STATUS:CONFIRMED
END:VEVENT
END:VCALENDAR
