BEGIN:VCALENDAR
VERSION:2.0
PRODID:-//Erfurter Männerchor 1890 e.V.//Hugo//DE
CALSCALE:GREGORIAN
METHOD:PUBLISH
BEGIN:VEVENT
UID:90cd9740b50d440aa06b5651436f591e@emc1890.de
DTSTAMP:20260422T075419Z
DTSTART:20241003T130000Z
DTEND:20241003T150000Z
SUMMARY:Gemeinsames Konzert mit dem Polizeichor Fulda
LOCATION:Dom zu Erfurt
DESCRIPTION:Gemeinsames Konzert mit dem Polizeichor Fulda im Dom zu Erfurt
URL:https://emc1890.de/konzerte/2024/konzert-polizeichor/
STATUS:CONFIRMED
END:VEVENT
END:VCALENDAR
