BEGIN:VCALENDAR
VERSION:2.0
PRODID:-//Erfurter Männerchor 1890 e.V.//Hugo//DE
CALSCALE:GREGORIAN
METHOD:PUBLISH
BEGIN:VEVENT
UID:77d13a626b1cc94e7c9b8942f2273b11@emc1890.de
DTSTAMP:20260422T075419Z
DTSTART:20240316T140000Z
DTEND:20240316T170000Z
SUMMARY:76. Jahreshauptversammlung mit Vorstandswahl
LOCATION:Wintergarten Villa Haage (Kressepark)
DESCRIPTION: Jahreshauptversammlung mit Vorstandswahl 
URL:https://emc1890.de/konzerte/2024/jahreshauptversammlung/
STATUS:CONFIRMED
END:VEVENT
END:VCALENDAR
