BEGIN:VCALENDAR
VERSION:2.0
PRODID:-//Erfurter Männerchor 1890 e.V.//Hugo//DE
CALSCALE:GREGORIAN
METHOD:PUBLISH
BEGIN:VEVENT
UID:b4848139ca3b2b11470f0250d4ee491e@emc1890.de
DTSTAMP:20260422T075419Z
DTSTART:20240812T170000Z
DTEND:20240812T190000Z
SUMMARY:Erste Probe nach der Sommerpause
LOCATION:Gildehaus am Fischmarkt, Meistersaal
DESCRIPTION:Erste Probe nach der Sommerpause (24.06.–11.08.24)
URL:https://emc1890.de/konzerte/2024/erste-probe/
STATUS:CONFIRMED
END:VEVENT
END:VCALENDAR
