BEGIN:VCALENDAR
VERSION:2.0
PRODID:-//Erfurter Männerchor 1890 e.V.//Hugo//DE
CALSCALE:GREGORIAN
METHOD:PUBLISH
BEGIN:VEVENT
UID:160e3cad53f3cf7c6e1f99df8e1d25d0@emc1890.de
DTSTAMP:20260422T075419Z
DTSTART:20240908T140000Z
DTEND:20240908T160000Z
SUMMARY:Benefizkonzert in Elleben
LOCATION:Elleben
DESCRIPTION:Benefizkonzert in Elleben anlässlich der Denkmaltage
URL:https://emc1890.de/konzerte/2024/benefizkonzert-elleben/
STATUS:CONFIRMED
END:VEVENT
END:VCALENDAR
