BEGIN:VCALENDAR
VERSION:2.0
PRODID:-//Erfurter Männerchor 1890 e.V.//Hugo//DE
CALSCALE:GREGORIAN
METHOD:PUBLISH
BEGIN:VEVENT
UID:08f9f6c5ac9e0f90556d90a141e6a003@emc1890.de
DTSTAMP:20260422T075419Z
DTSTART:20241214T160000Z
DTEND:20241214T180000Z
SUMMARY:Handwerker-Adventsmarkt / Adventskonzert
LOCATION:Innenhof Gildehaus
DESCRIPTION:Handwerker-Adventsmarkt Gildehaus, Adventskonzert
URL:https://emc1890.de/konzerte/2024/adventsmarkt/
STATUS:CONFIRMED
END:VEVENT
END:VCALENDAR
