BEGIN:VCALENDAR
VERSION:2.0
PRODID:-//Erfurter Männerchor 1890 e.V.//Hugo//DE
CALSCALE:GREGORIAN
METHOD:PUBLISH
BEGIN:VEVENT
UID:d498ce6740964cec46c419053a364379@emc1890.de
DTSTAMP:20260422T075419Z
DTSTART:20241207T180000Z
DTEND:20241207T200000Z
SUMMARY:2. Adventskonzert
LOCATION:Thomaskirche Erfurt
DESCRIPTION: Adventskonzert in der Thomaskirche Erfurt 
URL:https://emc1890.de/konzerte/2024/adventskonzert-2/
STATUS:CONFIRMED
END:VEVENT
END:VCALENDAR
